BEGIN:VCALENDAR
VERSION:2.0
PRODID:-//Tri-Lake Lions Club - ECPv4.6.22.1//NONSGML v1.0//EN
CALSCALE:GREGORIAN
METHOD:PUBLISH
X-WR-CALNAME:Tri-Lake Lions Club
X-ORIGINAL-URL:https://trilakeslionsclub.org
X-WR-CALDESC:Events for Tri-Lake Lions Club
BEGIN:VEVENT
DTSTART;TZID=America/Denver:20230610T083000
DTEND;TZID=America/Denver:20230610T130000
DTSTAMP:20260420T192234
CREATED:20230227T173052Z
LAST-MODIFIED:20230610T034945Z
UID:2726-1686385800-1686402000@trilakeslionsclub.org
SUMMARY:Bingo
DESCRIPTION:3 required\, 4 preferred: Melinda R.\, Dave R.\, Sue B.\, Mike R. \n
URL:https://trilakeslionsclub.org/event/bingo-106/
LOCATION:Carefree Bingo\, 3440 Carefree Cir N\, Colorado Springs\, CO\, 80917\, United States
END:VEVENT
END:VCALENDAR