BEGIN:VCALENDAR
VERSION:2.0
PRODID:-//Tri-Lake Lions Club - ECPv4.6.22.1//NONSGML v1.0//EN
CALSCALE:GREGORIAN
METHOD:PUBLISH
X-WR-CALNAME:Tri-Lake Lions Club
X-ORIGINAL-URL:https://trilakeslionsclub.org
X-WR-CALDESC:Events for Tri-Lake Lions Club
BEGIN:VEVENT
DTSTART;TZID=America/Denver:20230729T083000
DTEND;TZID=America/Denver:20230729T130000
DTSTAMP:20260422T083552
CREATED:20230610T224704Z
LAST-MODIFIED:20230625T024339Z
UID:2859-1690619400-1690635600@trilakeslionsclub.org
SUMMARY:Bingo
DESCRIPTION:3 Required\, 4 Preferred: Jim N.\, Stan K.\, Rachel O.\, \n
URL:https://trilakeslionsclub.org/event/bingo-115/
LOCATION:Carefree Bingo\, 3440 Carefree Cir N\, Colorado Springs\, CO\, 80917\, United States
END:VEVENT
END:VCALENDAR