BEGIN:VCALENDAR
VERSION:2.0
PRODID:-//Tri-Lake Lions Club - ECPv4.6.22.1//NONSGML v1.0//EN
CALSCALE:GREGORIAN
METHOD:PUBLISH
X-WR-CALNAME:Tri-Lake Lions Club
X-ORIGINAL-URL:https://trilakeslionsclub.org
X-WR-CALDESC:Events for Tri-Lake Lions Club
BEGIN:VEVENT
DTSTART;TZID=America/Denver:20231111T083000
DTEND;TZID=America/Denver:20231111T130000
DTSTAMP:20260425T204801
CREATED:20230902T203152Z
LAST-MODIFIED:20231105T215000Z
UID:2962-1699691400-1699707600@trilakeslionsclub.org
SUMMARY:Bingo
DESCRIPTION:3 required\, 4 preferred: Rachel O.\, Melinda R.\, Dave R.\,## Jim N.\n##show at 0800 on Saturdays or 1700 on Wednesdays for setup. \n
URL:https://trilakeslionsclub.org/event/bingo-130/
LOCATION:Carefree Bingo\, 3440 Carefree Cir N\, Colorado Springs\, CO\, 80917\, United States
END:VEVENT
END:VCALENDAR