BEGIN:VCALENDAR
VERSION:2.0
PRODID:-//Tri-Lake Lions Club - ECPv4.6.22.1//NONSGML v1.0//EN
CALSCALE:GREGORIAN
METHOD:PUBLISH
X-WR-CALNAME:Tri-Lake Lions Club
X-ORIGINAL-URL:https://trilakeslionsclub.org
X-WR-CALDESC:Events for Tri-Lake Lions Club
BEGIN:VEVENT
DTSTART;TZID=America/Denver:20231118T083000
DTEND;TZID=America/Denver:20231118T130000
DTSTAMP:20260425T192425
CREATED:20230902T203240Z
LAST-MODIFIED:20231105T214452Z
UID:2964-1700296200-1700312400@trilakeslionsclub.org
SUMMARY:Bingo
DESCRIPTION:3 required\, 4 preferred: Melinda R.\, Curtis J.\, ##Jim N.\, Stan K.\n##show at 0800 on Saturdays or 1700 on Wednesdays for setup. \n
URL:https://trilakeslionsclub.org/event/bingo-131/
LOCATION:Carefree Bingo\, 3440 Carefree Cir N\, Colorado Springs\, CO\, 80917\, United States
END:VEVENT
END:VCALENDAR