BEGIN:VCALENDAR
VERSION:2.0
PRODID:-//Tri-Lake Lions Club - ECPv4.6.22.1//NONSGML v1.0//EN
CALSCALE:GREGORIAN
METHOD:PUBLISH
X-WR-CALNAME:Tri-Lake Lions Club
X-ORIGINAL-URL:https://trilakeslionsclub.org
X-WR-CALDESC:Events for Tri-Lake Lions Club
BEGIN:VEVENT
DTSTART;TZID=America/Denver:20231125T083000
DTEND;TZID=America/Denver:20231125T130000
DTSTAMP:20260425T175429
CREATED:20230902T203334Z
LAST-MODIFIED:20231122T172254Z
UID:2966-1700901000-1700917200@trilakeslionsclub.org
SUMMARY:Bingo
DESCRIPTION:3 required\, 4 preferred: Dave R.\, $$ Melinda R.\, Curtis J.\, Jim N.\n## show at 0800 on Saturdays or 1700 on Wednesdays for setup (1 required).\n$$ plan to stay until the end to help pack up (2 required). \n
URL:https://trilakeslionsclub.org/event/bingo-132/
LOCATION:Carefree Bingo\, 3440 Carefree Cir N\, Colorado Springs\, CO\, 80917\, United States
END:VEVENT
END:VCALENDAR