BEGIN:VCALENDAR
VERSION:2.0
PRODID:-//Tri-Lake Lions Club - ECPv4.6.22.1//NONSGML v1.0//EN
CALSCALE:GREGORIAN
METHOD:PUBLISH
X-WR-CALNAME:Tri-Lake Lions Club
X-ORIGINAL-URL:https://trilakeslionsclub.org
X-WR-CALDESC:Events for Tri-Lake Lions Club
BEGIN:VEVENT
DTSTART;TZID=America/Denver:20231223T083000
DTEND;TZID=America/Denver:20231223T130000
DTSTAMP:20260425T175947
CREATED:20230902T203622Z
LAST-MODIFIED:20231211T021520Z
UID:2974-1703320200-1703336400@trilakeslionsclub.org
SUMMARY:Bingo
DESCRIPTION:3 required\, 4 preferred: Rachel O.\, ## Dave R.\, Dave P.\, Curtis J.\n## show at 0800 on Saturdays or 1700 on Wednesdays for setup (1 required).\n$$ plan to stay until the end to help pack up (2 required). \n
URL:https://trilakeslionsclub.org/event/bingo-136/
LOCATION:Carefree Bingo\, 3440 Carefree Cir N\, Colorado Springs\, CO\, 80917\, United States
END:VEVENT
END:VCALENDAR