BEGIN:VCALENDAR
VERSION:2.0
PRODID:-//Tri-Lake Lions Club - ECPv4.6.22.1//NONSGML v1.0//EN
CALSCALE:GREGORIAN
METHOD:PUBLISH
X-WR-CALNAME:Tri-Lake Lions Club
X-ORIGINAL-URL:https://trilakeslionsclub.org
X-WR-CALDESC:Events for Tri-Lake Lions Club
BEGIN:VEVENT
DTSTART;TZID=America/Denver:20210911T083000
DTEND;TZID=America/Denver:20210911T130000
DTSTAMP:20260422T230750
CREATED:20210616T025230Z
LAST-MODIFIED:20210727T204015Z
UID:1821-1631349000-1631365200@trilakeslionsclub.org
SUMMARY:Bingo
DESCRIPTION:3 required\, 4 preferred.  Melinda R.\, Jim N.\, Rachel O.\, Dave R. \n
URL:https://trilakeslionsclub.org/event/bingo-26/
LOCATION:Carefree Bingo\, 3440 Carefree Cir N\, Colorado Springs\, CO\, 80917\, United States
END:VEVENT
END:VCALENDAR