BEGIN:VCALENDAR
VERSION:2.0
PRODID:-//Tri-Lake Lions Club - ECPv4.6.22.1//NONSGML v1.0//EN
CALSCALE:GREGORIAN
METHOD:PUBLISH
X-WR-CALNAME:Tri-Lake Lions Club
X-ORIGINAL-URL:https://trilakeslionsclub.org
X-WR-CALDESC:Events for Tri-Lake Lions Club
BEGIN:VEVENT
DTSTART;TZID=America/Denver:20210613T080000
DTEND;TZID=America/Denver:20210613T170000
DTSTAMP:20260425T144440
CREATED:20210318T203026Z
LAST-MODIFIED:20210321T220741Z
UID:1683-1623571200-1623603600@trilakeslionsclub.org
SUMMARY:Lions Camp - Serving
DESCRIPTION:Grilling/Serving date for Colorado Lions Camp.  Volunteers include Gordon and Melinda R\, Stan K\, Jim H\, Jim N\, Dave P \n
URL:https://trilakeslionsclub.org/event/lions-camp-serving/
LOCATION:Lions Camp at Woodland Park Colorado\, 28541 CO-67 N\, Woodland Park\, CO\, 808635\, United States
CATEGORIES:Projects
END:VEVENT
END:VCALENDAR