BEGIN:VCALENDAR
VERSION:2.0
PRODID:-//Tri-Lake Lions Club - ECPv4.6.22.1//NONSGML v1.0//EN
CALSCALE:GREGORIAN
METHOD:PUBLISH
X-WR-CALNAME:Tri-Lake Lions Club
X-ORIGINAL-URL:https://trilakeslionsclub.org
X-WR-CALDESC:Events for Tri-Lake Lions Club
BEGIN:VEVENT
DTSTART;TZID=America/Denver:20230607T173000
DTEND;TZID=America/Denver:20230607T203000
DTSTAMP:20260420T192335
CREATED:20230608T024904Z
LAST-MODIFIED:20230608T024904Z
UID:2841-1686159000-1686169800@trilakeslionsclub.org
SUMMARY:Monthly Meeting
DESCRIPTION:Stan and Lila’s house \n
URL:https://trilakeslionsclub.org/event/monthly-meeting-3/
END:VEVENT
END:VCALENDAR