BEGIN:VCALENDAR
VERSION:2.0
PRODID:-//Tri-Lake Lions Club - ECPv4.6.22.1//NONSGML v1.0//EN
CALSCALE:GREGORIAN
METHOD:PUBLISH
X-WR-CALNAME:Tri-Lake Lions Club
X-ORIGINAL-URL:https://trilakeslionsclub.org
X-WR-CALDESC:Events for Tri-Lake Lions Club
BEGIN:VEVENT
DTSTART;TZID=America/Denver:20230712T173000
DTEND;TZID=America/Denver:20230712T203000
DTSTAMP:20260420T152215
CREATED:20230608T025618Z
LAST-MODIFIED:20230608T025618Z
UID:2847-1689183000-1689193800@trilakeslionsclub.org
SUMMARY:Monthly Meeting
DESCRIPTION:Stan and Lila’s House \n
URL:https://trilakeslionsclub.org/event/monthly-meeting-6/
LOCATION:Stan and Lila’s House
END:VEVENT
END:VCALENDAR