BEGIN:VCALENDAR
VERSION:2.0
PRODID:-//Tri-Lake Lions Club - ECPv4.6.22.1//NONSGML v1.0//EN
CALSCALE:GREGORIAN
METHOD:PUBLISH
X-WR-CALNAME:Tri-Lake Lions Club
X-ORIGINAL-URL:https://trilakeslionsclub.org
X-WR-CALDESC:Events for Tri-Lake Lions Club
BEGIN:VEVENT
DTSTART;TZID=America/Denver:20210407T173000
DTEND;TZID=America/Denver:20210407T220000
DTSTAMP:20260420T201035
CREATED:20210318T200402Z
LAST-MODIFIED:20210407T193213Z
UID:1661-1617816600-1617832800@trilakeslionsclub.org
SUMMARY:Bingo
DESCRIPTION:Bingo is a primary Fund Raiser for our Lions Club.  Requires 3 volunteers. Shawn M\, Rachel O\, Stan K \n
URL:https://trilakeslionsclub.org/event/bingo-5/
LOCATION:Carefree Bingo\, 3440 Carefree Cir N\, Colorado Springs\, CO\, 80917\, United States
CATEGORIES:Fundraising
END:VEVENT
END:VCALENDAR