BEGIN:VCALENDAR
VERSION:2.0
PRODID:-//Tri-Lake Lions Club - ECPv4.6.22.1//NONSGML v1.0//EN
CALSCALE:GREGORIAN
METHOD:PUBLISH
X-WR-CALNAME:Tri-Lake Lions Club
X-ORIGINAL-URL:https://trilakeslionsclub.org
X-WR-CALDESC:Events for Tri-Lake Lions Club
BEGIN:VEVENT
DTSTART;VALUE=DATE:20220921
DTEND;VALUE=DATE:20220922
DTSTAMP:20260425T225910
CREATED:20220907T231904Z
LAST-MODIFIED:20220907T231904Z
UID:2523-1663718400-1663804799@trilakeslionsclub.org
SUMMARY:Kidsight Testing
DESCRIPTION:
URL:https://trilakeslionsclub.org/event/kidsight-testing/
CATEGORIES:Projects
END:VEVENT
END:VCALENDAR